BEGIN:VCALENDAR
VERSION:2.0
PRODID:-//UND Generationentandem//NONSGML v1.0//EN
BEGIN:VEVENT
UID:69ecc60b7a6eb@www.generationentandem.ch
DTSTAMP:20260425T134755Z
DTSTART:20241214T090000Z
DTEND:20241214T100000Z
SUMMARY:Pizzaabend
DESCRIPTION:Spiele das königliche Spiel im Offenen Höchhus. Mit bekannten und neuen Gesichtern kommst du in den Austausch. Egal ob schacherfahren oder komplett neu im Spiel – die Freude führt Schachinteressierte einmal im Monat zusammen.
LOCATION:Begegnungszentrum, Höchhusweg 17, 3612 Steffisburg
URL:https://www.generationentandem.ch/veranstaltungen/pizzabend-22/
END:VEVENT
END:VCALENDAR
