BEGIN:VCALENDAR
VERSION:2.0
PRODID:-//UND Generationentandem//NONSGML v1.0//EN
BEGIN:VEVENT
UID:69ea0144af580@www.generationentandem.ch
DTSTAMP:20260423T112348Z
DTSTART:20251106T183000Z
DTEND:20251106T193000Z
SUMMARY:Pubquiz
DESCRIPTION:Beim Pubquiz im Offenen Höchhus warten knifflige Fragen, gutes Essen und gemütliche Runden in Teams mit bis zu sechs Leuten – ein Abend voller Spass und Spannung.\n
LOCATION:Begegnungszentrum, Höchhusweg 17, 3612 Steffisburg 
URL:https://www.generationentandem.ch/veranstaltungen/pubquiz-3/
END:VEVENT
END:VCALENDAR
