BEGIN:VCALENDAR
VERSION:2.0
PRODID:-//UND Generationentandem//NONSGML v1.0//EN
BEGIN:VEVENT
UID:69e89aa3beb6d@www.generationentandem.ch
DTSTAMP:20260422T095339Z
DTSTART:20190907T084500Z
DTEND:20190907T094500Z
SUMMARY:Offenes Singen mit Eva Klaus und Judith von Ah
DESCRIPTION:&nbsp; &nbsp; In der gemeinsamen Singrunde für Jung und Alt wirkt Singen ansteckend und gibt gute Laune. Man kann nichts falsch machen, dafür ein altvertrautes Lied als Schatz wiederfinden oder ein neues Lieblingslied entdecken? Wir singen Lieder mit UND ohne Worte. Mit dir? Mit Eva Klaus und Judith von Ah. &nbsp;
LOCATION:Innenbühne
URL:https://www.generationentandem.ch/veranstaltungen/offenes-singen-mit-eva-klaus-und-judith-von-ah/
END:VEVENT
END:VCALENDAR
