BEGIN:VCALENDAR
VERSION:2.0
PRODID:-//UND Generationentandem//NONSGML v1.0//EN
BEGIN:VEVENT
UID:69e89debad640@www.generationentandem.ch
DTSTAMP:20260422T100739Z
DTSTART:20190907T123000Z
DTEND:20190907T133000Z
SUMMARY:Taj Ji und Qigong
DESCRIPTION:Qigong ist eine meditative, fliessende Bewegungsart, welche sich wohltuend auf Körper, Geist und Seele auswirkt. Sie kann in jedem Lebensalter ausgeübt werden. Qigong führt uns zu unserer Mitte, verhilft zu geistiger und körperlicher Stabilität. Workshop mit Brigitta Schärli. &nbsp; &nbsp;
LOCATION:Spielbereich
URL:https://www.generationentandem.ch/veranstaltungen/taj-ji-qigong/
END:VEVENT
END:VCALENDAR
