BEGIN:VCALENDAR
VERSION:2.0
PRODID:-//UND Generationentandem//NONSGML v1.0//EN
BEGIN:VEVENT
UID:69e89ce0eb8bf@www.generationentandem.ch
DTSTAMP:20260422T100312Z
DTSTART:20210828T080000Z
DTEND:20210828T090000Z
SUMMARY:AGAHIT Arbeitsgruppe Altersheime Thun
DESCRIPTION:Einsamkeit im Alter: Das muss - und darf! -  nicht sein.\nGanz besonders ältere Menschen leiden oft unter Einsamkeit. Die Al-ters- und Pflegeheime in Thun AGAHIT haben es sich zur Aufgabe ge-macht, ein Umfeld zu schaffen, wo sich alte Menschen umsorgt fühlen. 
LOCATION:Märit
URL:https://www.generationentandem.ch/veranstaltungen/agahit-arbeitsgruppe-altersheime-thun/
END:VEVENT
END:VCALENDAR
