BEGIN:VCALENDAR
VERSION:2.0
PRODID:-//UND Generationentandem//NONSGML v1.0//EN
BEGIN:VEVENT
UID:69eb3a694fedc@www.generationentandem.ch
DTSTAMP:20260424T093953Z
DTSTART:20210828T080000Z
DTEND:20210828T090000Z
SUMMARY:DAP
DESCRIPTION:Bei uns kannst du dich über unser vielfältiges Angebot informieren. Wir freuen uns deine Fragen zu beantworten und vielleicht treffen wir dich nach deinem Besuch auch mal bei uns im dap an. 
LOCATION:Märit
URL:https://www.generationentandem.ch/veranstaltungen/dap/
END:VEVENT
END:VCALENDAR
