BEGIN:VCALENDAR
VERSION:2.0
PRODID:-//UND Generationentandem//NONSGML v1.0//EN
BEGIN:VEVENT
UID:69e89b5d8cc92@www.generationentandem.ch
DTSTAMP:20260422T095645Z
DTSTART:20210828T080000Z
DTEND:20210828T090000Z
SUMMARY:Linguista
DESCRIPTION:Sprache verbindet! Mit uns lernst du nicht nur eine neue Sprache, sondern du verbringst eine tolle Zeit in einem Land deiner Wahl. Komm vorbei und lerne die zahlreichen Destinationen für ein unvergessliches Erlebnis kennen. 
LOCATION:Märit
URL:https://www.generationentandem.ch/veranstaltungen/linguista/
END:VEVENT
END:VCALENDAR
