BEGIN:VCALENDAR
VERSION:2.0
PRODID:-//UND Generationentandem//NONSGML v1.0//EN
BEGIN:VEVENT
UID:69e89ceb6651c@www.generationentandem.ch
DTSTAMP:20260422T100323Z
DTSTART:20210828T080000Z
DTEND:20210828T090000Z
SUMMARY:Unabhängige Beschwerdeinstanz UBA
DESCRIPTION:Die unabhängige Beschwerdeinstanz für das Alter ist immer gefragter. Komm bei uns am Märitstand vorbei und lerne unsere Arbeit kennen. Wir freuen uns auf deinen Besuch. 
LOCATION:Märit
URL:https://www.generationentandem.ch/veranstaltungen/unabhaengige-beschwerdeinstanz-uba/
END:VEVENT
END:VCALENDAR
