BEGIN:VCALENDAR
VERSION:2.0
PRODID:-//UND Generationentandem//NONSGML v1.0//EN
BEGIN:VEVENT
UID:69e9eb5d5f01a@www.generationentandem.ch
DTSTAMP:20260423T095021Z
DTSTART:20220916T150000Z
DTEND:20220916T160000Z
SUMMARY:Cruise Ship Misery
DESCRIPTION:Das Mundart Pop Duo Cruise Ship Misery lädt ein zu einer garstigen Rundfahrt durch die Missverständnisse & Zivilisationsstrukturen der Gegenwart. Abstrakt–poetische Texte treffen auf Popästhetik, Unbehagen trifft auf Party – und dazwischen findet man sich selbst wieder.
LOCATION:Aussenbühne
URL:https://www.generationentandem.ch/veranstaltungen/cruise-ship-misery/
END:VEVENT
END:VCALENDAR
