BEGIN:VCALENDAR
VERSION:2.0
PRODID:-//UND Generationentandem//NONSGML v1.0//EN
BEGIN:VEVENT
UID:69e9eb7c7fa92@www.generationentandem.ch
DTSTAMP:20260423T095052Z
DTSTART:20220917T130000Z
DTEND:20220917T140000Z
SUMMARY:The Two Romans
DESCRIPTION:Indie-Pop aus Thun mit viel Hoffnung und Italianità. Dave Näf vom Bierhübeli beschreibt sie so: «Live bringen ‹The two Romans› die Bühne und Herzen zum Beben. Die Band performt starke Songs mit Ohrwurm-Charakter – energiegeladen und authentisch. Ein musikalisches Erlebnis!»
LOCATION:Aussenbühne
URL:https://www.generationentandem.ch/veranstaltungen/the-two-romans/
END:VEVENT
END:VCALENDAR
