BEGIN:VCALENDAR
VERSION:2.0
PRODID:-//UND Generationentandem//NONSGML v1.0//EN
BEGIN:VEVENT
UID:69ea0120d3697@www.generationentandem.ch
DTSTAMP:20260423T112312Z
DTSTART:20220917T080000Z
DTEND:20220917T090000Z
SUMMARY:Chlämmerli Bühni
DESCRIPTION:Wenn das Vreneli wieder mal nicht einschlafen kann, erzählt ihm der Chaschper neue und spannende Geschichten. So auch am Generationenfestival, wo die Chlämmerli-Bühni ihre Zelte aufschlagen und in ungefähr 40 Minuten eine Märchenstunde darbieten wird – für Jung und Alt.\n\n
LOCATION:Innenbühne
URL:https://www.generationentandem.ch/veranstaltungen/ds-guggu-vreneli/
END:VEVENT
END:VCALENDAR
