BEGIN:VCALENDAR
VERSION:2.0
PRODID:-//UND Generationentandem//NONSGML v1.0//EN
BEGIN:VEVENT
UID:69ea01267e128@www.generationentandem.ch
DTSTAMP:20260423T112318Z
DTSTART:20220917T110000Z
DTEND:20220917T120000Z
SUMMARY:Ownway
DESCRIPTION:Acht Köpfe, Acht Geschichten, eine Band: Ownway. Mit ihrem Motto «Never Standard» und einzigartig-sonnigem Poprock im Gepäck nehmen sie die BesucherInnen des Festivals mit – irgendwohin zwischen Boulderhalle, Surfstrand und freundschaftlich versifftem Luftschutzkeller.
LOCATION:Aussenbühne
URL:https://www.generationentandem.ch/veranstaltungen/ownway/
END:VEVENT
END:VCALENDAR
