BEGIN:VCALENDAR
VERSION:2.0
PRODID:-//UND Generationentandem//NONSGML v1.0//EN
BEGIN:VEVENT
UID:69e9eb7b7e960@www.generationentandem.ch
DTSTAMP:20260423T095051Z
DTSTART:20220917T090000Z
DTEND:20220917T100000Z
SUMMARY:Lisa&#8217;s Panther meets idesax
DESCRIPTION:Lisa's Panther meets idesax – Saxophon Bands der Musikschule der Region Thun – treten unter der Leitung von Daniel Chmelik zum ersten Mal gemeinsam auf. Sie spielen eigene Arrangements und verpassen den grössten Hits der guten, alten 70er wunderbare Revivals. Let’s groove!
LOCATION:Aussenbühne
URL:https://www.generationentandem.ch/veranstaltungen/lisas-panther-meets-idesax/
END:VEVENT
END:VCALENDAR
