BEGIN:VCALENDAR
VERSION:2.0
PRODID:-//UND Generationentandem//NONSGML v1.0//EN
BEGIN:VEVENT
UID:69ea0144ad9d5@www.generationentandem.ch
DTSTAMP:20260423T112348Z
DTSTART:20220917T080000Z
DTEND:20220917T090000Z
SUMMARY:Kunstmuseum Thun
DESCRIPTION:In Gemeinschaftsarbeit entsteht ein wachsender Garten, blühend, paradiesisch und bunt – komm vorbei und gestalte mit! Mit dem Team Kunstvermittlung und dem Freiwilligenteam des Kunstmuseum Thun.
LOCATION:Pavillon
URL:https://www.generationentandem.ch/veranstaltungen/kunstmuseum-thun/
END:VEVENT
END:VCALENDAR
