BEGIN:VCALENDAR
VERSION:2.0
PRODID:-//UND Generationentandem//NONSGML v1.0//EN
BEGIN:VEVENT
UID:69ea04e8e6727@www.generationentandem.ch
DTSTAMP:20260423T113920Z
DTSTART:20220917T080000Z
DTEND:20220917T090000Z
SUMMARY:Boccia Club Thun
DESCRIPTION:Boccia als Präzisionssportart für jedes Alter – ein Sport, der Generationen und Menschen verbinden kann. Der Boccia Club Thun kommt mit einer Bocciabahn ans Generationenfestival. Komm, lass die Kugel rollen und spiel mit.
LOCATION:Märit
URL:https://www.generationentandem.ch/veranstaltungen/boccia-club-thun-2/
END:VEVENT
END:VCALENDAR
