BEGIN:VCALENDAR
VERSION:2.0
PRODID:-//UND Generationentandem//NONSGML v1.0//EN
BEGIN:VEVENT
UID:69e9eb5e1a527@www.generationentandem.ch
DTSTAMP:20260423T095022Z
DTSTART:20220917T080000Z
DTEND:20220917T090000Z
SUMMARY:Schweizerisches Rotes Kreuz Kanton Bern, Region Oberland
DESCRIPTION:Das «Schweizerische Rote Kreuz SRK» Bern, Region Oberland, engagiert sich mit Angeboten in den Bereichen Gesundheit, Entlastung und Bildung, zum Beispiel mit dem Rotkreuz-Fahrdienst, Rotkreuz-Notruf oder der Kinderbetreuung zu Hause SRK.\n\n
LOCATION:Märit
URL:https://www.generationentandem.ch/veranstaltungen/schweizerisches-rotes-kreuz/
END:VEVENT
END:VCALENDAR
