BEGIN:VCALENDAR
VERSION:2.0
PRODID:-//UND Generationentandem//NONSGML v1.0//EN
BEGIN:VEVENT
UID:69e8122405fc2@www.generationentandem.ch
DTSTAMP:20260422T001116Z
DTSTART:20220917T080000Z
DTEND:20220917T090000Z
SUMMARY:Technikhilfe
DESCRIPTION:«Digital Natives» unterstützen «Digital Immigrants»: Eine Generationenbrücke, die Wissen vermittelt und Lust auf die digitale Welt macht. Lerne das Angebot von UND Generationentandem kennen. Kläre vor Ort deine Fragen – bringe dein Smartphone oder Tablet gleich mit!
LOCATION:Märit
URL:https://www.generationentandem.ch/veranstaltungen/technikhilfe/
END:VEVENT
END:VCALENDAR
