BEGIN:VCALENDAR
VERSION:2.0
PRODID:-//UND Generationentandem//NONSGML v1.0//EN
BEGIN:VEVENT
UID:69ea016dd9b54@www.generationentandem.ch
DTSTAMP:20260423T112429Z
DTSTART:20220918T080000Z
DTEND:20220918T090000Z
SUMMARY:OHNI Thun
DESCRIPTION:OHNI Thun bietet an der Schulstrasse den Unverpackt-Laden, ein Food Save Bistro und Caterings mit dem kleinstmöglichen ökologischen Fussabdruck im Kanton Bern an.
LOCATION:Märit
URL:https://www.generationentandem.ch/veranstaltungen/ohni-thun/
END:VEVENT
END:VCALENDAR
