BEGIN:VCALENDAR
VERSION:2.0
PRODID:-//UND Generationentandem//NONSGML v1.0//EN
BEGIN:VEVENT
UID:69ea13d972c57@www.generationentandem.ch
DTSTAMP:20260423T124305Z
DTSTART:20220917T080000Z
DTEND:20220917T090000Z
SUMMARY:Wohnbaugenossenschaft ZUKUNFT WOHNEN
DESCRIPTION:Die Wohnbaugenossenschaft «ZUKUNFT WOHNEN» will in Kooperation mit bestehenden Thuner Wohnbaugenossenschaften in Thun ein zukunftsweisendes Neubauprojekt realisieren.
LOCATION:Märit
URL:https://www.generationentandem.ch/veranstaltungen/wohnbaugenossenschaft-zukunft-wohnen/
END:VEVENT
END:VCALENDAR
