BEGIN:VCALENDAR
VERSION:2.0
PRODID:-//UND Generationentandem//NONSGML v1.0//EN
BEGIN:VEVENT
UID:69ea13d0e0871@www.generationentandem.ch
DTSTAMP:20260423T124256Z
DTSTART:20220917T080000Z
DTEND:20220917T090000Z
SUMMARY:SICHTBAR THUN
DESCRIPTION:Wenn das Augenlicht unwiederbringlich schwächer wird oder ganz verloren geht, ist unkomplizierte Hilfe sehr wichtig. Wer medizinisch an Grenzen stösst, findet bei der Beratungsstelle  «SICHTBAR THUN» kostenlose Unterstützung in allen Belangen des Themas «Sehbehinderung und Blindheit».
LOCATION:Märit
URL:https://www.generationentandem.ch/veranstaltungen/sichtbar-thun/
END:VEVENT
END:VCALENDAR
