BEGIN:VCALENDAR
VERSION:2.0
PRODID:-//UND Generationentandem//NONSGML v1.0//EN
BEGIN:VEVENT
UID:69e9eb7d2d418@www.generationentandem.ch
DTSTAMP:20260423T095053Z
DTSTART:20220917T203000Z
DTEND:20220917T213000Z
SUMMARY:Silent Party
DESCRIPTION:Kopfhörer auf, Musik an. Bei der Silent Party ist Spass garantiert – jedeR hört die Musik über seine/ihre Kopfhörer und kann sich zu den rhythmischen Klängen treiben lassen. Mit lokalen DJs, die verschiedene Musikstile dabei haben. Etwa mit «Mütze». Wir freuen uns auf das einzigartige Erlebnis der stillen Disco am Freitag- und Samstagabend.
LOCATION:Aussenbühne
URL:https://www.generationentandem.ch/veranstaltungen/muetze/
END:VEVENT
END:VCALENDAR
