BEGIN:VCALENDAR
VERSION:2.0
PRODID:-//UND Generationentandem//NONSGML v1.0//EN
BEGIN:VEVENT
UID:69ea01180f9f6@www.generationentandem.ch
DTSTAMP:20260423T112304Z
DTSTART:20220917T140000Z
DTEND:20220917T150000Z
SUMMARY:dap Tanzshow
DESCRIPTION:Drei Showgruppen von dap Tanz- und Bewegungszentrum in verschiedenen Stilen machen dieses Jahr Lust auf Tanz. Die Gruppe «elles» bietet Klassik vom Feinsten, die «Lava Geckos» und die «Aqua Geckos» vermischen Akrobatik und Contemporary und die «Hyphen Crew» rundet das Ganze mit Streetdance ab.
LOCATION:Alte Turnhalle
URL:https://www.generationentandem.ch/veranstaltungen/dap-tanzshow/
END:VEVENT
END:VCALENDAR
