BEGIN:VCALENDAR
VERSION:2.0
PRODID:-//UND Generationentandem//NONSGML v1.0//EN
BEGIN:VEVENT
UID:69ea0120c31af@www.generationentandem.ch
DTSTAMP:20260423T112312Z
DTSTART:20220917T200000Z
DTEND:20220917T210000Z
SUMMARY:Gusti Pollak
DESCRIPTION:Aus seinen Unsämtlichen Werken (© Geschützter Titel!) präsentiert der Liedermacher, Kabarettist, Texter und Thuner Schnitzelbänkler Gusti Pollak eine ebenfalls unsämtliche konzertante Auswahl in Wort, Ton und Klavier-Klang.
LOCATION:Innenbühne
URL:https://www.generationentandem.ch/veranstaltungen/gusti-pollak/
END:VEVENT
END:VCALENDAR
