BEGIN:VCALENDAR
VERSION:2.0
PRODID:-//UND Generationentandem//NONSGML v1.0//EN
BEGIN:VEVENT
UID:69e89b418c919@www.generationentandem.ch
DTSTAMP:20260422T095617Z
DTSTART:20220918T080000Z
DTEND:20220918T090000Z
SUMMARY:Fritz und Frieda
DESCRIPTION:Im letzten Jahr konnte der Verein «Fritz&Frieda» erfolgreich circa 6'000 Brote, 8'000 Sandwiches, 5'000 verschiedene Bäckerei-Stücke, 12'000 Joghurte, 11 Tonnen Käse, und 45 Tonnen Gemüse und Früchte vor der unnötigen Entsorgung retten!
LOCATION:Roter Platz
URL:https://www.generationentandem.ch/veranstaltungen/fritz-und-frieda/
END:VEVENT
END:VCALENDAR
