BEGIN:VCALENDAR
VERSION:2.0
PRODID:-//UND Generationentandem//NONSGML v1.0//EN
BEGIN:VEVENT
UID:69e89ce594e80@www.generationentandem.ch
DTSTAMP:20260422T100317Z
DTSTART:20220917T150000Z
DTEND:20220917T160000Z
SUMMARY:Virtual Reality und Mario Kart
DESCRIPTION:Willkommen im Gaming-Raum von UND Generationentandem: Fahre eine Runde Mario Kart. Ob du im legendärsten Rennspiel gewinnst? Oder tauche ein in die virtuelle Realität.
LOCATION:Pavillon
URL:https://www.generationentandem.ch/veranstaltungen/virtual-reality-und-mario-kart/
END:VEVENT
END:VCALENDAR
