BEGIN:VCALENDAR
VERSION:2.0
PRODID:-//UND Generationentandem//NONSGML v1.0//EN
BEGIN:VEVENT
UID:69e8b184e6cf8@www.generationentandem.ch
DTSTAMP:20260422T113116Z
DTSTART:20230916T080000Z
DTEND:20230916T090000Z
SUMMARY:Klima-Grosseltern und Klimastreik-BEO
DESCRIPTION:Der Fokus der öffentlichen Aufmerksamkeit richtete sich in den letzten Jahren vermehrt auf die Klimakrise. Zu Recht, den sie betrifft jeden und jede auf diesem Planeten. Und es muss etwas unternommen werden. Dafür stehen die «Klima-Grosseltern» und «Klimastreik-BEO» ein. 
LOCATION:Märit
URL:https://www.generationentandem.ch/veranstaltungen/klima-grosseltern-und-klimastreik-beo-2/
END:VEVENT
END:VCALENDAR
