BEGIN:VCALENDAR
VERSION:2.0
PRODID:-//UND Generationentandem//NONSGML v1.0//EN
BEGIN:VEVENT
UID:69ea2c3d6da15@www.generationentandem.ch
DTSTAMP:20260423T142709Z
DTSTART:20230916T080000Z
DTEND:20230916T090000Z
SUMMARY:Blaues Kreuz Thun
DESCRIPTION:Wir sind eine Fachorganisation für Suchtfragen. Die vielfältigen Angebote in den Geschäftsfeldern Suchtprävention, Beratung und Integration setzen rund 80 Mitarbeitende sowie ca. 260 Freiwillige an 15 Standorten um. Komm an unserem Stand vorbei – gerne beantworten wir deine Fragen.
LOCATION:Märit
URL:https://www.generationentandem.ch/veranstaltungen/blaues-kreuz-thun/
END:VEVENT
END:VCALENDAR
