BEGIN:VCALENDAR
VERSION:2.0
PRODID:-//UND Generationentandem//NONSGML v1.0//EN
BEGIN:VEVENT
UID:69ea16389e8db@www.generationentandem.ch
DTSTAMP:20260423T125312Z
DTSTART:20230914T160000Z
DTEND:20230914T170000Z
SUMMARY:Blindenhundeschule Liestal
DESCRIPTION:Die Blindenhundeschule Liestal bildet Blindenführhunde aus und betreut Gespanne während der gemeinsamen Zeit. Wir beraten Menschen mit einer Sehbehinderung über Blindenführhunde als Mobilitätshilfe. Wir stellen die Arbeit des Blindenhundes vor.
LOCATION:Märit
URL:https://www.generationentandem.ch/veranstaltungen/blindenhundeschule-liestal-2/
END:VEVENT
END:VCALENDAR
