BEGIN:VCALENDAR
VERSION:2.0
PRODID:-//UND Generationentandem//NONSGML v1.0//EN
BEGIN:VEVENT
UID:69ea169a2c9f6@www.generationentandem.ch
DTSTAMP:20260423T125450Z
DTSTART:20240914T080000Z
DTEND:20240914T090000Z
SUMMARY:Stiftung SILEA
DESCRIPTION:Die «Stiftung SILEA» sieht sich als Wegbegleiterin für gelebte Vielfalt. Am Generationenfestival möchte sie den Besucher:innen einen Eindruck davon vermitteln, mit welchen Barrieren Menschen mit einer Beeinträchtigung täglich konfrontiert werden.
LOCATION:Märit
URL:https://www.generationentandem.ch/veranstaltungen/stiftung-silea-2/
END:VEVENT
END:VCALENDAR
