BEGIN:VCALENDAR
VERSION:2.0
PRODID:-//UND Generationentandem//NONSGML v1.0//EN
BEGIN:VEVENT
UID:69eb3dc360f68@www.generationentandem.ch
DTSTAMP:20260424T095411Z
DTSTART:20240915T080000Z
DTEND:20240915T090000Z
SUMMARY:360 Grad &#8211; Ganzheitliche Ernährungsberatung
DESCRIPTION:Der Fokus von 360 Grad - Ganzheitliche Ernährungsberatung Daniela Brandinu – liegt darauf, Menschen dabei zu unterstützen, mit Spass und Genuss eine nachhaltig gesunde Ernährung in ihren individuellen Alltag zu integrieren.\n
LOCATION:Märit
URL:https://www.generationentandem.ch/veranstaltungen/360-grad-ganzheitliche-ernaehrungsberatung/
END:VEVENT
END:VCALENDAR
