BEGIN:VCALENDAR
VERSION:2.0
PRODID:-//UND Generationentandem//NONSGML v1.0//EN
BEGIN:VEVENT
UID:69e89ae5f38e4@www.generationentandem.ch
DTSTAMP:20260422T095445Z
DTSTART:20240914T160000Z
DTEND:20240914T170000Z
SUMMARY:Tenter Hooks
DESCRIPTION:Inspiriert von Bands wie Red Hot Chili Peppers, Nothing But Thieves, Foals und Muse, kreieren die vier Thuner von TENTER HOOKS ihren eigenen Sound. Egal, ob grosse oder kleine Bühne, TENTER HOOKS erfüllen ihr Versprechen: Alternative Rock vom Feinsten!
LOCATION:Aussenbühne
URL:https://www.generationentandem.ch/veranstaltungen/tenter-hooks/
END:VEVENT
END:VCALENDAR
