BEGIN:VCALENDAR
VERSION:2.0
PRODID:-//UND Generationentandem//NONSGML v1.0//EN
BEGIN:VEVENT
UID:69e89ae22072e@www.generationentandem.ch
DTSTAMP:20260422T095442Z
DTSTART:20240914T190000Z
DTEND:20240914T200000Z
SUMMARY:Late Night Slam
DESCRIPTION:Andreas Iseli, Mia Luisa Glauser, Jessica Brunner und Raphael Reift messen sich am Late Night Slam und kämpfen mit Worten um Ruhm und Ehre. Das Publikum als hochkarätige Jury bestimmt, wer im Finale antreten darf. Die Show garantiert Witz, Tiefgang und Poesie.\n\n\n\n\n\n
LOCATION:Innenbühne
URL:https://www.generationentandem.ch/veranstaltungen/generationen-slam/
END:VEVENT
END:VCALENDAR
