BEGIN:VCALENDAR
VERSION:2.0
PRODID:-//UND Generationentandem//NONSGML v1.0//EN
BEGIN:VEVENT
UID:69e89ebacbc3b@www.generationentandem.ch
DTSTAMP:20260422T101106Z
DTSTART:20240914T120000Z
DTEND:20240914T130000Z
SUMMARY:Yoga für alle Generationen
DESCRIPTION:Du möchtest Yoga ausprobieren? Sei dabei bei einer aktivierenden Yogasequenz mit der YOGA BUDE und verbessere deine Balance, Koordination und Beweglichkeit. Dieses Yoga ist für ALLE geeignet. Ob Yogaprofi oder Anfänger:in - komm vorbei und mach mit. \n
LOCATION:Pavillon
URL:https://www.generationentandem.ch/veranstaltungen/yoga-fuer-alle-generationen/
END:VEVENT
END:VCALENDAR
