BEGIN:VCALENDAR
VERSION:2.0
PRODID:-//UND Generationentandem//NONSGML v1.0//EN
BEGIN:VEVENT
UID:69e89d33785db@www.generationentandem.ch
DTSTAMP:20260422T100435Z
DTSTART:20241028T180000Z
DTEND:20241028T190000Z
SUMMARY:Schreckgespenst Künstliche Intelligenz?
DESCRIPTION:Haben wir eigentlich einen Plan, wie wir mit Künstlicher Intelligenz umgehen? Oder ist sie doch irgendwie ein Schreckgespenst? Im Rahmen der Digitaltage Thun 2024 lädt UND Generationentandem zum Podium mit Menschen, die täglich mit KI zu tun haben.
LOCATION:Stadtratssaal, Rathaus, Rathausplatz 2, Thun
URL:https://www.generationentandem.ch/veranstaltungen/schreckgespenst-kuenstliche-intelligenz/
END:VEVENT
END:VCALENDAR
