BEGIN:VCALENDAR
VERSION:2.0
PRODID:-//UND Generationentandem//NONSGML v1.0//EN
BEGIN:VEVENT
UID:69ea0126b55cd@www.generationentandem.ch
DTSTAMP:20260423T112318Z
DTSTART:20250914T090000Z
DTEND:20250914T100000Z
SUMMARY:Tinu Heiniger solo
DESCRIPTION:Der Doyen der Schweizer Liedermacher und grossartige Mundartsänger aus dem Emmental berührt mit seinen Liedern über das Leben. Jederzeit glaubwürdig, kreativ, ohne Starallüren trifft Tinu Heiniger mit seinen Melodien und Texten das Herz des Publikums.
LOCATION:
URL:https://www.generationentandem.ch/veranstaltungen/tinu-heiniger-solo/
END:VEVENT
END:VCALENDAR
