BEGIN:VCALENDAR
VERSION:2.0
PRODID:-//UND Generationentandem//NONSGML v1.0//EN
BEGIN:VEVENT
UID:69ea1651af937@www.generationentandem.ch
DTSTAMP:20260423T125337Z
DTSTART:20250914T080000Z
DTEND:20250914T090000Z
SUMMARY:Klimagrosseltern
DESCRIPTION:Der Fokus der öffentlichen Aufmerksamkeit richtete sich in den letzten Jahren vermehrt auf die Klimakrise. Zu Recht – sie betrifft Alle auf unserem Planeten. Und es muss etwas unternommen werden. Dafür stehen die «Klima-Grosseltern» und «Klimastreik-BEO» ein.
LOCATION:
URL:https://www.generationentandem.ch/veranstaltungen/klimagrosseltern/
END:VEVENT
END:VCALENDAR
