BEGIN:VCALENDAR
VERSION:2.0
PRODID:-//UND Generationentandem//NONSGML v1.0//EN
BEGIN:VEVENT
UID:69ec9671c2064@www.generationentandem.ch
DTSTAMP:20260425T102449Z
DTSTART:20250914T080000Z
DTEND:20250914T090000Z
SUMMARY:Professor Bummbastic
DESCRIPTION:Professor Bummbastic zeigt eine spektakuläre, unterhaltsame, lehrreiche und witzige Wissenschaftsshow für die ganze Familie. Umrahmt werden die Experimente aus Physik und Chemie mit musikalischen Showelementen – Naturwissenschaft ist unterhaltsam! Lass dich überraschen.
LOCATION:
URL:https://www.generationentandem.ch/veranstaltungen/professor-bummbastic/
END:VEVENT
END:VCALENDAR
